BEGIN:VCALENDAR
VERSION:2.0
PRODID:-//wp-events-plugin.com//7.2.3.1//EN
BEGIN:VEVENT
UID:71@vangoghandvino.co.nz
DTSTART;TZID=Pacific/Auckland:20250702T190000
DTEND;TZID=Pacific/Auckland:20250702T210000
DTSTAMP:20250625T220223Z
URL:https://vangoghandvino.co.nz/events/winter-in-the-city-wine-paint-whan
 garei/
SUMMARY:Winter in the City | Wine & Paint | Whangarei
DESCRIPTION:With a drink in one hand and a brush in the other\, let your mi
 d-week woes melt away as you paint your masterpiece under our beginner fri
 endly step-by-step instruction.
ATTACH;FMTTYPE=image/jpeg:https://vangoghandvino.co.nz/wp-content/uploads/
 2022/08/Winter-in-the-city-1.jpg
CATEGORIES:Van Gogh &amp; Vino - Original
LOCATION:Dickens Inn\, 71 Cameron Street\, vinetown\,\, Whangarei\,\, 0110\
 , Northland\, New Zealand
X-APPLE-STRUCTURED-LOCATION;VALUE=URI;X-ADDRESS=71 Cameron Street\, vinetow
 n\,\, Whangarei\,\, 0110\, Northland\, New Zealand;X-APPLE-RADIUS=100;X-TI
 TLE=Dickens Inn:geo:0,0
END:VEVENT
BEGIN:VTIMEZONE
TZID:Pacific/Auckland
X-LIC-LOCATION:Pacific/Auckland
BEGIN:STANDARD
DTSTART:20250406T020000
TZOFFSETFROM:+1300
TZOFFSETTO:+1200
TZNAME:NZST
END:STANDARD
END:VTIMEZONE
END:VCALENDAR