BEGIN:VCALENDAR
VERSION:2.0
PRODID:-//wp-events-plugin.com//7.2.3.1//EN
BEGIN:VEVENT
UID:66@vangoghandvino.co.nz
DTSTART;TZID=Pacific/Auckland:20250212T153000
DTEND;TZID=Pacific/Auckland:20250409T170000
DTSTAMP:20241209T202133Z
URL:https://vangoghandvino.co.nz/events/little-van-goghs-whangarei-term-4/
SUMMARY:Little Van Gogh's - Whangarei (2025 - Term 1)
DESCRIPTION:We provide a nurturing space where your child can explore the m
 agic of self expression through making art. Our classes are designed with 
 every child's unique needs in mind and is available for all skill levels.\
 n\n🌟 What can I expect from Little Van Gogh's?\n\n🎨 Exploration: Ou
 r classes offer a variety of artistic experiences\, from experimenting wit
 h colour\, form\, shape and composition across various different mediums\,
  subjects and styles.\n🧠 Skills Development: Through hands-on activitie
 s\, we help children develop problem-solving skills\, critical thinking\, 
 and imaginative expression.\n🤗 Inclusivity: At Little Van Gogh's\, ever
 y child is welcomed with open arms\, creating a supportive community that 
 encourages everyone to find thier unique voice.\n🌱 Growth Mindset: We'r
 e not just teaching art\; we're nurturing the next generation of creative 
 thinkers\, problem solvers\, and innovators.\n\n🌟 The details..\n\n 	S
 uitale for ages between 5 - 10 years old.\n 	Classes are held at the Reybu
 rn House in the Town Basin.\n 	Classes are weekly on Wednesdays from 3.30p
 m - 5pm.\n 	$210 for Term 1 (9 classes) - classes begin in week 2 (12 Febr
 uary).\n 	Students experiment with watercolour paints\, acrylic paints\, p
 encils\, pastels + more!\n 	Each lesson offers a focus on various techniqu
 es building on previous lessons.\n 	Lessons will be demonstrated but stude
 nts will be encouraged to expore thier imagination.\n 	Students will have 
 an opportunity to work on a project of their choosing for the last 2-3 les
 sons.\n 	All materials are provided including aprons.\n\n&nbsp\;
ATTACH;FMTTYPE=image/jpeg:https://vangoghandvino.co.nz/wp-content/uploads/
 2024/04/Little-Van-Gogh-Logo-e1716687005623.jpg
CATEGORIES:Little Van Gogh's
LOCATION:Reyburn House - Town Basin\, Whangarei\, 17 Reyburn House Lane\, T
 own Basin\, Whangarei.\, New Zealand
X-APPLE-STRUCTURED-LOCATION;VALUE=URI;X-ADDRESS=17 Reyburn House Lane\, Tow
 n Basin\, Whangarei.\, New Zealand;X-APPLE-RADIUS=100;X-TITLE=Reyburn Hous
 e - Town Basin\, Whangarei:geo:0,0
END:VEVENT
BEGIN:VTIMEZONE
TZID:Pacific/Auckland
X-LIC-LOCATION:Pacific/Auckland
BEGIN:DAYLIGHT
DTSTART:20240929T030000
TZOFFSETFROM:+1200
TZOFFSETTO:+1300
TZNAME:NZDT
END:DAYLIGHT
BEGIN:STANDARD
DTSTART:20250406T020000
TZOFFSETFROM:+1300
TZOFFSETTO:+1200
TZNAME:NZST
END:STANDARD
END:VTIMEZONE
END:VCALENDAR